BEGIN:VCALENDAR
VERSION:2.0
PRODID:-//The Arboretum at Flagstaff! - ECPv6.15.20//NONSGML v1.0//EN
CALSCALE:GREGORIAN
METHOD:PUBLISH
X-ORIGINAL-URL:https://thearb.org
X-WR-CALDESC:Events for The Arboretum at Flagstaff!
REFRESH-INTERVAL;VALUE=DURATION:PT1H
X-Robots-Tag:noindex
X-PUBLISHED-TTL:PT1H
BEGIN:VTIMEZONE
TZID:America/Phoenix
BEGIN:STANDARD
TZOFFSETFROM:-0700
TZOFFSETTO:-0700
TZNAME:MST
DTSTART:20250101T000000
END:STANDARD
END:VTIMEZONE
BEGIN:VEVENT
DTSTART;TZID=America/Phoenix:20260705T170000
DTEND;TZID=America/Phoenix:20260705T190000
DTSTAMP:20260419T105706
CREATED:20240424T034030Z
LAST-MODIFIED:20260407T230025Z
UID:25974326-1783270800-1783278000@thearb.org
SUMMARY:Mountain Melodies Concert- Dave Logan Trio
DESCRIPTION: Join us for an evening under the pines! \nGates open at 4:30. Bring your lawn chairs or blankets\, byob and a picnic! \nPurchase tickets here \n \n\n 
URL:https://thearb.org/event/mountain-melodies-concert-2/
LOCATION:The Arboretum at Flagstaff\, 4001 S. Woody Mountain Road\, Flagstaff\, AZ\, 86005\, United States
CATEGORIES:Concerts,Fundraiser,Special Events
ATTACH;FMTTYPE=image/png:https://thearb.org/wp-content/uploads/2024/05/Mountain-Melodies.png
ORGANIZER;CN="The Arboretum at Flagstaff":MAILTO:events@thearb.org
END:VEVENT
BEGIN:VEVENT
DTSTART;TZID=America/Phoenix:20260711T090000
DTEND;TZID=America/Phoenix:20260711T140000
DTSTAMP:20260419T105706
CREATED:20260102T034020Z
LAST-MODIFIED:20260113T162401Z
UID:25974315-1783760400-1783778400@thearb.org
SUMMARY:Plant Sale FREE ADMISSION!
DESCRIPTION:  \nMembers only from 9-11am \nEveryone welcome to shop from 11am-2pm \nFree Admission all day!
URL:https://thearb.org/event/plant-sale-july-12/
LOCATION:The Arboretum at Flagstaff\, 4001 S. Woody Mountain Road\, Flagstaff\, AZ\, 86005\, United States
CATEGORIES:Fundraiser,Plant Sales
ATTACH;FMTTYPE=image/png:https://thearb.org/wp-content/uploads/2024/04/Plant-Sale.png
ORGANIZER;CN="The Arboretum at Flagstaff":MAILTO:events@thearb.org
END:VEVENT
BEGIN:VEVENT
DTSTART;TZID=America/Phoenix:20260715T180000
DTEND;TZID=America/Phoenix:20260715T200000
DTSTAMP:20260419T105706
CREATED:20250126T002022Z
LAST-MODIFIED:20260222T005405Z
UID:25976808-1784138400-1784145600@thearb.org
SUMMARY:Ales with the Arb! Every 3rd Wednesday
DESCRIPTION:This months planned speakers and topics (subject to change):
URL:https://thearb.org/event/ales-with-the-arb-every-3rd-wednesday-7/
LOCATION:Mother Road Brewing Company\, 7 S. Mikes Pike St\, Flagstaff\, AZ\, 86001\, United States
CATEGORIES:Classes,Fundraiser,Talks
ATTACH;FMTTYPE=image/png:https://thearb.org/wp-content/uploads/2024/04/Ales-at-the-Arb.png
END:VEVENT
END:VCALENDAR