BEGIN:VCALENDAR
VERSION:2.0
PRODID:-//The Arboretum at Flagstaff! - ECPv6.15.20//NONSGML v1.0//EN
CALSCALE:GREGORIAN
METHOD:PUBLISH
X-WR-CALNAME:The Arboretum at Flagstaff!
X-ORIGINAL-URL:https://thearb.org
X-WR-CALDESC:Events for The Arboretum at Flagstaff!
REFRESH-INTERVAL;VALUE=DURATION:PT1H
X-Robots-Tag:noindex
X-PUBLISHED-TTL:PT1H
BEGIN:VTIMEZONE
TZID:America/Phoenix
BEGIN:STANDARD
TZOFFSETFROM:-0700
TZOFFSETTO:-0700
TZNAME:MST
DTSTART:20250101T000000
END:STANDARD
END:VTIMEZONE
BEGIN:VEVENT
DTSTART;TZID=America/Phoenix:20260711T090000
DTEND;TZID=America/Phoenix:20260711T140000
DTSTAMP:20260421T015049
CREATED:20260102T034020Z
LAST-MODIFIED:20260113T162401Z
UID:25974315-1783760400-1783778400@thearb.org
SUMMARY:Plant Sale FREE ADMISSION!
DESCRIPTION:  \nMembers only from 9-11am \nEveryone welcome to shop from 11am-2pm \nFree Admission all day!
URL:https://thearb.org/event/plant-sale-july-12/
LOCATION:The Arboretum at Flagstaff\, 4001 S. Woody Mountain Road\, Flagstaff\, AZ\, 86005\, United States
CATEGORIES:Fundraiser,Plant Sales
ATTACH;FMTTYPE=image/png:https://thearb.org/wp-content/uploads/2024/04/Plant-Sale.png
ORGANIZER;CN="The Arboretum at Flagstaff":MAILTO:events@thearb.org
END:VEVENT
END:VCALENDAR