BEGIN:VCALENDAR
VERSION:2.0
PRODID:-//The Arboretum at Flagstaff! - ECPv6.15.20//NONSGML v1.0//EN
CALSCALE:GREGORIAN
METHOD:PUBLISH
X-ORIGINAL-URL:https://thearb.org
X-WR-CALDESC:Events for The Arboretum at Flagstaff!
REFRESH-INTERVAL;VALUE=DURATION:PT1H
X-Robots-Tag:noindex
X-PUBLISHED-TTL:PT1H
BEGIN:VTIMEZONE
TZID:America/Phoenix
BEGIN:STANDARD
TZOFFSETFROM:-0700
TZOFFSETTO:-0700
TZNAME:MST
DTSTART:20250101T000000
END:STANDARD
END:VTIMEZONE
BEGIN:VEVENT
DTSTART;TZID=America/Phoenix:20260530T103000
DTEND;TZID=America/Phoenix:20260530T123000
DTSTAMP:20260424T012328
CREATED:20250225T020608Z
LAST-MODIFIED:20260222T001343Z
UID:25976901-1780137000-1780144200@thearb.org
SUMMARY:Raptor Education
DESCRIPTION:Join Michelle from the International Raptor & Falconry Center to learn about the\nconservation of raptor species worldwide and their place in the ecosystem. \nFree with admission. \nIRFC is a non-profit organization. Donations are welcome. \n \n  \n 
URL:https://thearb.org/event/raptor-education/
LOCATION:The Arboretum at Flagstaff\, 4001 S. Woody Mountain Road\, Flagstaff\, AZ\, 86005\, United States
CATEGORIES:Raptors,Talks
ATTACH;FMTTYPE=image/png:https://thearb.org/wp-content/uploads/2025/02/leroyfying.png
ORGANIZER;CN="International Raptor & Falconry Center":MAILTO:michele@raptorfalconrycenter.org
END:VEVENT
BEGIN:VEVENT
DTSTART;TZID=America/Phoenix:20260614T103000
DTEND;TZID=America/Phoenix:20260614T123000
DTSTAMP:20260424T012328
CREATED:20250225T020802Z
LAST-MODIFIED:20260222T001556Z
UID:25976902-1781433000-1781440200@thearb.org
SUMMARY:Raptor Education
DESCRIPTION:Join Michelle from the International Raptor & Falconry Center to learn about the\nconservation of raptor species worldwide and their place in the ecosystem. \nFree with admission. \nIRFC is a non-profit organization. Donations are welcome. \n \n  \n 
URL:https://thearb.org/event/raptor-education-2/
LOCATION:The Arboretum at Flagstaff\, 4001 S. Woody Mountain Road\, Flagstaff\, AZ\, 86005\, United States
CATEGORIES:Raptors,Talks
ATTACH;FMTTYPE=image/png:https://thearb.org/wp-content/uploads/2025/02/leroyfying.png
ORGANIZER;CN="International Raptor & Falconry Center":MAILTO:michele@raptorfalconrycenter.org
END:VEVENT
BEGIN:VEVENT
DTSTART;TZID=America/Phoenix:20260726T103000
DTEND;TZID=America/Phoenix:20260726T123000
DTSTAMP:20260424T012328
CREATED:20250225T020839Z
LAST-MODIFIED:20260222T002045Z
UID:25976903-1785061800-1785069000@thearb.org
SUMMARY:Raptor Education
DESCRIPTION:Join Michelle from the International Raptor & Falconry Center to learn about the\nconservation of raptor species worldwide and their place in the ecosystem. \nFree with admission. \nIRFC is a non-profit organization. Donations are welcome. \n \n  \n 
URL:https://thearb.org/event/raptor-education-3/
LOCATION:The Arboretum at Flagstaff\, 4001 S. Woody Mountain Road\, Flagstaff\, AZ\, 86005\, United States
CATEGORIES:Raptors,Talks
ATTACH;FMTTYPE=image/png:https://thearb.org/wp-content/uploads/2025/02/leroyfying.png
ORGANIZER;CN="International Raptor & Falconry Center":MAILTO:michele@raptorfalconrycenter.org
END:VEVENT
BEGIN:VEVENT
DTSTART;TZID=America/Phoenix:20260815T103000
DTEND;TZID=America/Phoenix:20260815T123000
DTSTAMP:20260424T012328
CREATED:20250225T020908Z
LAST-MODIFIED:20260222T001931Z
UID:25976904-1786789800-1786797000@thearb.org
SUMMARY:Raptor Education
DESCRIPTION:Join Michelle from the International Raptor & Falconry Center to learn about the\nconservation of raptor species worldwide and their place in the ecosystem. \nFree with admission. \nIRFC is a non-profit organization. Donations are welcome. \n \n 
URL:https://thearb.org/event/raptor-education-4/
LOCATION:The Arboretum at Flagstaff\, 4001 S. Woody Mountain Road\, Flagstaff\, AZ\, 86005\, United States
CATEGORIES:Raptors,Talks
ATTACH;FMTTYPE=image/png:https://thearb.org/wp-content/uploads/2025/02/leroyfying.png
ORGANIZER;CN="International Raptor & Falconry Center":MAILTO:michele@raptorfalconrycenter.org
END:VEVENT
BEGIN:VEVENT
DTSTART;TZID=America/Phoenix:20260926T103000
DTEND;TZID=America/Phoenix:20260926T123000
DTSTAMP:20260424T012328
CREATED:20250225T020939Z
LAST-MODIFIED:20260222T002547Z
UID:25976905-1790418600-1790425800@thearb.org
SUMMARY:Raptor Education
DESCRIPTION:Join Michelle from the International Raptor & Falconry Center to learn about the\nconservation of raptor species worldwide and their place in the ecosystem. \nFree with admission. \nIRFC is a non-profit organization. Donations are welcome. \n \n  \n 
URL:https://thearb.org/event/raptor-education-5/
LOCATION:The Arboretum at Flagstaff\, 4001 S. Woody Mountain Road\, Flagstaff\, AZ\, 86005\, United States
CATEGORIES:Raptors,Talks
ATTACH;FMTTYPE=image/png:https://thearb.org/wp-content/uploads/2025/02/leroyfying.png
ORGANIZER;CN="International Raptor & Falconry Center":MAILTO:michele@raptorfalconrycenter.org
END:VEVENT
BEGIN:VEVENT
DTSTART;TZID=America/Phoenix:20261017T103000
DTEND;TZID=America/Phoenix:20261017T123000
DTSTAMP:20260424T012328
CREATED:20250225T021009Z
LAST-MODIFIED:20260222T002744Z
UID:25976906-1792233000-1792240200@thearb.org
SUMMARY:Raptor Education
DESCRIPTION:Join Michelle from the International Raptor & Falconry Center to learn about the\nconservation of raptor species worldwide and their place in the ecosystem. \nFree with admission. \nIRFC is a non-profit organization. Donations are welcome. \n \n 
URL:https://thearb.org/event/raptor-education-6/
LOCATION:The Arboretum at Flagstaff\, 4001 S. Woody Mountain Road\, Flagstaff\, AZ\, 86005\, United States
CATEGORIES:Raptors,Talks
ATTACH;FMTTYPE=image/png:https://thearb.org/wp-content/uploads/2025/02/leroyfying.png
ORGANIZER;CN="International Raptor & Falconry Center":MAILTO:michele@raptorfalconrycenter.org
END:VEVENT
END:VCALENDAR