BEGIN:VCALENDAR
VERSION:2.0
PRODID:-//The Arboretum at Flagstaff! - ECPv6.15.20//NONSGML v1.0//EN
CALSCALE:GREGORIAN
METHOD:PUBLISH
X-ORIGINAL-URL:https://thearb.org
X-WR-CALDESC:Events for The Arboretum at Flagstaff!
REFRESH-INTERVAL;VALUE=DURATION:PT1H
X-Robots-Tag:noindex
X-PUBLISHED-TTL:PT1H
BEGIN:VTIMEZONE
TZID:America/Phoenix
BEGIN:STANDARD
TZOFFSETFROM:-0700
TZOFFSETTO:-0700
TZNAME:MST
DTSTART:20240101T000000
END:STANDARD
END:VTIMEZONE
BEGIN:VEVENT
DTSTART;TZID=America/Phoenix:20250823T160000
DTEND;TZID=America/Phoenix:20250823T193000
DTSTAMP:20260423T195131
CREATED:20240424T034239Z
LAST-MODIFIED:20250820T192533Z
UID:25974343-1755964800-1755977400@thearb.org
SUMMARY:Summer Garden Party! SOLD OUT!
DESCRIPTION:Please join us for our biggest fundraiser of year!  \nThis year’s Summer Garden Party will be help August 23rd from 4-7:30pm. The night will feature locally sourced food by Square Root Foods\, open bar with wine\, specialty cocktail and Mother Road beer\, raffle\, silent auction and live music from Two Hand Union.   \nKeynote Speaker: \nPeter Friederici is a writer\, professor\, and food systems activist who lives in Flagstaff and teaches at Northern Arizona University. He is the director of the Rural Foods Pathways Project\, an interdisciplinary initiative aimed at improving food sustainability and access in northern Arizona. Peter’s articles and essays have been widely published in periodicals such as Orion\, Audubon\, and High Country News. His most recent book\, published in 2022\, is Beyond Climate Breakdown: Envisioning New Stories of Radical Hope. \nPeter is also: \nNorthern Arizona University Professor\, Sustainable Communities Program \nFacilitator/Volunteer\, McAllister Ranch Community Farm \nDirector\, Rural Foods Pathways Project \nAdvisor\, SSLUG Garden Club \nSOLD OUT!\n 
URL:https://thearb.org/event/summer-garden-party-fundraiser/
LOCATION:The Arboretum at Flagstaff\, 4001 S. Woody Mountain Road\, Flagstaff\, AZ\, 86005\, United States
CATEGORIES:Fundraiser,Special Events,Summer Garden Party
ATTACH;FMTTYPE=image/png:https://thearb.org/wp-content/uploads/2025/07/Arb-website-cover-for-garden-party.png
ORGANIZER;CN="The Arboretum at Flagstaff":MAILTO:events@thearb.org
END:VEVENT
END:VCALENDAR