BEGIN:VCALENDAR
VERSION:2.0
PRODID:-//The Arboretum at Flagstaff! - ECPv6.15.20//NONSGML v1.0//EN
CALSCALE:GREGORIAN
METHOD:PUBLISH
X-ORIGINAL-URL:https://thearb.org
X-WR-CALDESC:Events for The Arboretum at Flagstaff!
REFRESH-INTERVAL;VALUE=DURATION:PT1H
X-Robots-Tag:noindex
X-PUBLISHED-TTL:PT1H
BEGIN:VTIMEZONE
TZID:America/Phoenix
BEGIN:STANDARD
TZOFFSETFROM:-0700
TZOFFSETTO:-0700
TZNAME:MST
DTSTART:20240101T000000
END:STANDARD
END:VTIMEZONE
BEGIN:VEVENT
DTSTART;VALUE=DATE:20251027
DTEND;VALUE=DATE:20260429
DTSTAMP:20260420T011445
CREATED:20250309T203020Z
LAST-MODIFIED:20250309T203020Z
UID:25976944-1761523200-1777420799@thearb.org
SUMMARY:Closed Oct 27th-April 28th\, 2026
DESCRIPTION:The Arboretum is closed for the season beginning October 27th through April 28th 2026.
URL:https://thearb.org/event/closed-oct-27th-april-28th-2026/
LOCATION:AZ
CATEGORIES:Arboretum Hours
ATTACH;FMTTYPE=image/jpeg:https://thearb.org/wp-content/uploads/2024/08/Fall-Peaks-scaled.jpg
END:VEVENT
BEGIN:VEVENT
DTSTART;TZID=America/Phoenix:20260422T090000
DTEND;TZID=America/Phoenix:20260422T110000
DTSTAMP:20260420T011445
CREATED:20250217T213629Z
LAST-MODIFIED:20260115T160113Z
UID:25976892-1776848400-1776855600@thearb.org
SUMMARY:Volunteer and Staff clean up day!
DESCRIPTION:Join us for a big clean up before the season begins! \nThe more the merrier for this 2 hour project from 9-11am. \nBring a water bottle\, sun protection and gloves. Extra rakes are welcome too! \nIf you are new to volunteering at the Arb\, please fill out our volunteer form prior to attending. \nVolunteer Information \n 
URL:https://thearb.org/event/volunteer-and-staff-clean-up-day/
LOCATION:AZ
ATTACH;FMTTYPE=image/png:https://thearb.org/wp-content/uploads/2025/02/volunteers-banner.png
END:VEVENT
BEGIN:VEVENT
DTSTART;TZID=America/Phoenix:20260429T090000
DTEND;TZID=America/Phoenix:20260429T160000
DTSTAMP:20260420T011445
CREATED:20241030T222925Z
LAST-MODIFIED:20251119T174155Z
UID:25976627-1777453200-1777478400@thearb.org
SUMMARY:OPENING DAY!
DESCRIPTION:The Arboretum opens for our 2026 season April 29th\, 2026!\n  \n  \n 
URL:https://thearb.org/event/opening-day/
LOCATION:The Arboretum at Flagstaff\, 4001 S. Woody Mountain Road\, Flagstaff\, AZ\, 86005\, United States
CATEGORIES:Arboretum Hours
ATTACH;FMTTYPE=image/jpeg:https://thearb.org/wp-content/uploads/2024/04/Layer-18.jpg
END:VEVENT
BEGIN:VEVENT
DTSTART;TZID=America/Phoenix:20260429T090000
DTEND;TZID=America/Phoenix:20261025T160000
DTSTAMP:20260420T011445
CREATED:20250129T183030Z
LAST-MODIFIED:20260317T162802Z
UID:25976822-1777453200-1792944000@thearb.org
SUMMARY:Ephemeral Bloom: Weathered by Time Presented by ARTx @ The Arb
DESCRIPTION:Ephemeral Bloom: Weathered by Time \nA New Collaborative Artwork by Artist Jill Sans and Botanical Consultant & Storyteller Kate Watters \n\n\n\nEphemeral Bloom: Weathered by Time weaves together pigment\, plant knowledge\, and poetry to create layered narratives that unfold across the seasons. • Sans’ abstract panels—painted with botanical inks and pigments crafted from native and locally grown plants—will shift naturally with sunlight\, wind\, and weather\, embracing impermanence as part of their design. • Watters’ poetic storytelling—informed by decades of botanical work\, conservation practice\, and ecological study—will guide visitors into deeper reflection on the themes of seasonality\, resilience\, and relationship with place. \nDeveloped in part at Wild Heart Farm in Rimrock\, AZ\, the project incorporates plants gathered and grown by Watters such as marigold\, cosmos\, black Hopi sunflower and those collected here in Coconino Forest by Sans such as Aspen leaves\, ponderosa bark and rabbitbrush. Together\, they form the pigments and mark-making materials that set the foundations for these artworks. Their collaboration began with research visits to The Arboretum in November 2025\, where they studied the grounds\, learned from Arboretum staff\, and revisited a beloved plant Watters was introduced to years ago at the start of her botany journey.
URL:https://thearb.org/event/artx-the-arb/
LOCATION:The Arboretum at Flagstaff\, 4001 S. Woody Mountain Road\, Flagstaff\, AZ\, 86005\, United States
ATTACH;FMTTYPE=image/jpeg:https://thearb.org/wp-content/uploads/2025/05/PXL_20250511_173830498.MP_-scaled-e1747434538395.jpg
END:VEVENT
END:VCALENDAR